BEGIN:VCALENDAR
VERSION:2.0
PRODID:-//Pessebristes de Ciutat Vella - ECPv4.6.25//NONSGML v1.0//EN
CALSCALE:GREGORIAN
METHOD:PUBLISH
X-WR-CALNAME:Pessebristes de Ciutat Vella
X-ORIGINAL-URL:https://pessebristesciutatvella.cat
X-WR-CALDESC:Events for Pessebristes de Ciutat Vella
BEGIN:VEVENT
DTSTART;VALUE=DATE:20181129
DTEND;VALUE=DATE:20190203
DTSTAMP:20260421T101028
CREATED:20181114T115511Z
LAST-MODIFIED:20181114T115640Z
UID:1231-1543449600-1549151999@pessebristesciutatvella.cat
SUMMARY:Pessebre Popular de la Casa dels Entremesos
DESCRIPTION:Pessebre Popular de la Casa dels Entremesos\nCom ja va sent tradició\, les figures del pessebre popular (popular perquè les figures són gegants/bèsties/capgrossos…) augmentaran en nombre\, i també hi haurà  sorpreses molt agradables per a algunes de les entitats que formen part de la casa de cultura per excel·lència de Barcelona. \nAdreça:  la Casa dels Entremesos\, pl. Beates\, 2 – 08003 Barcelona \nDies i horaris d’obertura: Del 29 de novembre al 2 de febrer del 2019 \nDe dimarts a dissabte de 10 h a 13 h i de 16 h a 19 h. \nDiumenges i festius d’11 h a 14 h. Dilluns tancat. \n  \n{"@context":"http:\/\/schema.org\/"}
URL:https://pessebristesciutatvella.cat/esdeveniment/pessebre-popular-casa-dels-entremesos-2/
LOCATION:La Casa dels Entremesos\, Pl. Beates\, 2\, Barcelona\, Barcelona\, 08003\, Espanya
ATTACH;FMTTYPE=image/jpeg:https://pessebristesciutatvella.cat/wp-content/uploads/2018/11/IMG_5141.jpg
END:VEVENT
END:VCALENDAR